BEGIN:VCALENDAR
VERSION:2.0
PRODID:-//Mill House School - ECPv6.15.20//NONSGML v1.0//EN
CALSCALE:GREGORIAN
METHOD:PUBLISH
X-WR-CALNAME:Mill House School
X-ORIGINAL-URL:https://www.millhouseschool.co.uk
X-WR-CALDESC:Events for Mill House School
REFRESH-INTERVAL;VALUE=DURATION:PT1H
X-Robots-Tag:noindex
X-PUBLISHED-TTL:PT1H
BEGIN:VTIMEZONE
TZID:UTC
BEGIN:STANDARD
TZOFFSETFROM:+0000
TZOFFSETTO:+0000
TZNAME:UTC
DTSTART:20240101T000000
END:STANDARD
END:VTIMEZONE
BEGIN:VEVENT
DTSTART;VALUE=DATE:20260325
DTEND;VALUE=DATE:20260326
DTSTAMP:20260423T172525
CREATED:20260306T161115Z
LAST-MODIFIED:20260306T161115Z
UID:3997-1774396800-1774483199@www.millhouseschool.co.uk
SUMMARY:Year 9 Reward trip to Hatton Adventure World
DESCRIPTION:
URL:https://www.millhouseschool.co.uk/event/year-9-reward-trip-to-hatton-adventure-world/
END:VEVENT
BEGIN:VEVENT
DTSTART;VALUE=DATE:20260318
DTEND;VALUE=DATE:20260319
DTSTAMP:20260423T172525
CREATED:20260306T161013Z
LAST-MODIFIED:20260306T161013Z
UID:3995-1773792000-1773878399@www.millhouseschool.co.uk
SUMMARY:Year 7 Personal Development Film Festival trip to NEC
DESCRIPTION:
URL:https://www.millhouseschool.co.uk/event/year-7-personal-development-film-festival-trip-to-nec/
END:VEVENT
BEGIN:VEVENT
DTSTART;VALUE=DATE:20260311
DTEND;VALUE=DATE:20260312
DTSTAMP:20260423T172525
CREATED:20260306T160925Z
LAST-MODIFIED:20260306T160925Z
UID:3993-1773187200-1773273599@www.millhouseschool.co.uk
SUMMARY:Year 11 CBS arena Careers apprenticeship show
DESCRIPTION:
URL:https://www.millhouseschool.co.uk/event/year-11-cbs-arena-careers-apprenticeship-show/
END:VEVENT
BEGIN:VEVENT
DTSTART;VALUE=DATE:20260311
DTEND;VALUE=DATE:20260312
DTSTAMP:20260423T172525
CREATED:20260210T130311Z
LAST-MODIFIED:20260210T130311Z
UID:3918-1773187200-1773273599@www.millhouseschool.co.uk
SUMMARY:Year 11 NAS Apprenticeship Show at CBS arena
DESCRIPTION:
URL:https://www.millhouseschool.co.uk/event/year-11-nas-apprenticeship-show-at-cbs-arena/
END:VEVENT
BEGIN:VEVENT
DTSTART;VALUE=DATE:20260310
DTEND;VALUE=DATE:20260311
DTSTAMP:20260423T172525
CREATED:20260306T160816Z
LAST-MODIFIED:20260306T160816Z
UID:3991-1773100800-1773187199@www.millhouseschool.co.uk
SUMMARY:Year 10 CBS arena Careers apprenticeship show
DESCRIPTION:
URL:https://www.millhouseschool.co.uk/event/year-10-cbs-arena-careers-apprenticeship-show/
END:VEVENT
BEGIN:VEVENT
DTSTART;VALUE=DATE:20260310
DTEND;VALUE=DATE:20260311
DTSTAMP:20260423T172525
CREATED:20260210T130232Z
LAST-MODIFIED:20260210T130232Z
UID:3916-1773100800-1773187199@www.millhouseschool.co.uk
SUMMARY:Year 10 NAS Apprenticeship Show at CBS arena
DESCRIPTION:
URL:https://www.millhouseschool.co.uk/event/year-10-nas-apprenticeship-show-at-cbs-arena/
END:VEVENT
BEGIN:VEVENT
DTSTART;VALUE=DATE:20260116
DTEND;VALUE=DATE:20260117
DTSTAMP:20260423T172525
CREATED:20250905T172609Z
LAST-MODIFIED:20250905T172609Z
UID:3382-1768521600-1768607999@www.millhouseschool.co.uk
SUMMARY:Mixed group – Exhibition & STEM Workshop at Silverstone
DESCRIPTION:
URL:https://www.millhouseschool.co.uk/event/mixed-group-exhibition-stem-workshop-at-silverstone/
END:VEVENT
BEGIN:VEVENT
DTSTART;TZID=UTC:20251112T141000
DTEND;TZID=UTC:20251112T150000
DTSTAMP:20260423T172525
CREATED:20251003T123023Z
LAST-MODIFIED:20251003T123145Z
UID:3475-1762956600-1762959600@www.millhouseschool.co.uk
SUMMARY:Year 11 – Anti Bullying workshop delivered by JustLikeUs
DESCRIPTION:
URL:https://www.millhouseschool.co.uk/event/year-11-anti-bullying-workshop-delivered-by-justlikeus/
END:VEVENT
BEGIN:VEVENT
DTSTART;TZID=UTC:20251112T132000
DTEND;TZID=UTC:20251112T141000
DTSTAMP:20260423T172525
CREATED:20251003T122855Z
LAST-MODIFIED:20251003T122855Z
UID:3473-1762953600-1762956600@www.millhouseschool.co.uk
SUMMARY:Year 9-10 – Anti Bullying workshop delivered by JustLikeUs
DESCRIPTION:
URL:https://www.millhouseschool.co.uk/event/year-9-10-anti-bullying-workshop-delivered-by-justlikeus/
END:VEVENT
BEGIN:VEVENT
DTSTART;TZID=UTC:20251112T120000
DTEND;TZID=UTC:20251112T120000
DTSTAMP:20260423T172525
CREATED:20251003T122622Z
LAST-MODIFIED:20251003T122700Z
UID:3471-1762948800-1762948800@www.millhouseschool.co.uk
SUMMARY:Year 7 – Anti Bullying workshop delivered by JustLikeUs
DESCRIPTION:
URL:https://www.millhouseschool.co.uk/event/year-7-anti-bullying-workshop-delivered-by-justlikeus/
END:VEVENT
BEGIN:VEVENT
DTSTART;VALUE=DATE:20251008
DTEND;VALUE=DATE:20251009
DTSTAMP:20260423T172525
CREATED:20250905T172452Z
LAST-MODIFIED:20251129T110545Z
UID:3380-1759881600-1759967999@www.millhouseschool.co.uk
SUMMARY:Mixed group - King's Trust Personal Resilience
DESCRIPTION:
URL:https://www.millhouseschool.co.uk/event/mixed-group-kings-trust-personal-resilience/
END:VEVENT
BEGIN:VEVENT
DTSTART;VALUE=DATE:20250718
DTEND;VALUE=DATE:20250719
DTSTAMP:20260423T172525
CREATED:20250620T101528Z
LAST-MODIFIED:20250620T101528Z
UID:3157-1752796800-1752883199@www.millhouseschool.co.uk
SUMMARY:End of Year Celebration
DESCRIPTION:
URL:https://www.millhouseschool.co.uk/event/end-of-year-celebration/
END:VEVENT
BEGIN:VEVENT
DTSTART;VALUE=DATE:20250711
DTEND;VALUE=DATE:20250712
DTSTAMP:20260423T172525
CREATED:20250620T101449Z
LAST-MODIFIED:20250620T101449Z
UID:3155-1752192000-1752278399@www.millhouseschool.co.uk
SUMMARY:KS4 Animal Care Wildlife Park
DESCRIPTION:
URL:https://www.millhouseschool.co.uk/event/ks4-animal-care-wildlife-park/
END:VEVENT
BEGIN:VEVENT
DTSTART;VALUE=DATE:20250704
DTEND;VALUE=DATE:20250705
DTSTAMP:20260423T172525
CREATED:20250620T101400Z
LAST-MODIFIED:20250620T101400Z
UID:3153-1751587200-1751673599@www.millhouseschool.co.uk
SUMMARY:Visit to Alexander Stadium
DESCRIPTION:
URL:https://www.millhouseschool.co.uk/event/visit-to-alexander-stadium/
END:VEVENT
BEGIN:VEVENT
DTSTART;VALUE=DATE:20250701
DTEND;VALUE=DATE:20250702
DTSTAMP:20260423T172525
CREATED:20250620T101321Z
LAST-MODIFIED:20250620T101321Z
UID:3151-1751328000-1751414399@www.millhouseschool.co.uk
SUMMARY:Year 9 Science trip to London Science Museum
DESCRIPTION:
URL:https://www.millhouseschool.co.uk/event/year-9-science-trip-to-london-science-museum/
END:VEVENT
BEGIN:VEVENT
DTSTART;VALUE=DATE:20250627
DTEND;VALUE=DATE:20250628
DTSTAMP:20260423T172525
CREATED:20250618T135936Z
LAST-MODIFIED:20250619T114957Z
UID:3109-1750982400-1751068799@www.millhouseschool.co.uk
SUMMARY:Super Learning Careers Day
DESCRIPTION:
URL:https://www.millhouseschool.co.uk/event/super-learning-careers-day/
END:VEVENT
BEGIN:VEVENT
DTSTART;VALUE=DATE:20250626
DTEND;VALUE=DATE:20250627
DTSTAMP:20260423T172525
CREATED:20250623T125025Z
LAST-MODIFIED:20250623T125025Z
UID:3224-1750896000-1750982399@www.millhouseschool.co.uk
SUMMARY:Live lesson\, Disney on Stage
DESCRIPTION:
URL:https://www.millhouseschool.co.uk/event/live-lesson-disney-on-stage/
END:VEVENT
BEGIN:VEVENT
DTSTART;VALUE=DATE:20250626
DTEND;VALUE=DATE:20250627
DTSTAMP:20260423T172525
CREATED:20250623T124950Z
LAST-MODIFIED:20250623T124950Z
UID:3222-1750896000-1750982399@www.millhouseschool.co.uk
SUMMARY:Poetry writing and Greek myths with Joseph Coelho
DESCRIPTION:
URL:https://www.millhouseschool.co.uk/event/poetry-writing-and-greek-myths-with-joseph-coelho/
END:VEVENT
BEGIN:VEVENT
DTSTART;VALUE=DATE:20250623
DTEND;VALUE=DATE:20250624
DTSTAMP:20260423T172525
CREATED:20250620T100748Z
LAST-MODIFIED:20250623T115713Z
UID:3144-1750636800-1750723199@www.millhouseschool.co.uk
SUMMARY:KS3 Bank of England visit - late cancellation with an apology
DESCRIPTION:
URL:https://www.millhouseschool.co.uk/event/ks3-bank-of-england-visit/
END:VEVENT
BEGIN:VEVENT
DTSTART;VALUE=DATE:20250618
DTEND;VALUE=DATE:20250619
DTSTAMP:20260423T172525
CREATED:20250612T135905Z
LAST-MODIFIED:20250612T135905Z
UID:3107-1750204800-1750291199@www.millhouseschool.co.uk
SUMMARY:KS4 Work Experience day Herbert Museum
DESCRIPTION:
URL:https://www.millhouseschool.co.uk/event/ks4-work-experience-day-herbert-museum/
END:VEVENT
BEGIN:VEVENT
DTSTART;VALUE=DATE:20250616
DTEND;VALUE=DATE:20250617
DTSTAMP:20260423T172525
CREATED:20250612T135826Z
LAST-MODIFIED:20250612T135826Z
UID:3104-1750032000-1750118399@www.millhouseschool.co.uk
SUMMARY:KS3/4 Visit from Prism
DESCRIPTION:
URL:https://www.millhouseschool.co.uk/event/ks3-4-visit-from-prism/
END:VEVENT
BEGIN:VEVENT
DTSTART;VALUE=DATE:20250613
DTEND;VALUE=DATE:20250614
DTSTAMP:20260423T172525
CREATED:20250612T135715Z
LAST-MODIFIED:20250612T135715Z
UID:3102-1749772800-1749859199@www.millhouseschool.co.uk
SUMMARY:Year 7 Merit Reward Bowling
DESCRIPTION:
URL:https://www.millhouseschool.co.uk/event/year-7-merit-reward-bowling/
END:VEVENT
BEGIN:VEVENT
DTSTART;VALUE=DATE:20250611
DTEND;VALUE=DATE:20250612
DTSTAMP:20260423T172525
CREATED:20250623T112941Z
LAST-MODIFIED:20250623T112941Z
UID:3177-1749600000-1749686399@www.millhouseschool.co.uk
SUMMARY:KS4 Animal Care Wildlife park
DESCRIPTION:
URL:https://www.millhouseschool.co.uk/event/ks4-animal-care-wildlife-park-2/
END:VEVENT
BEGIN:VEVENT
DTSTART;VALUE=DATE:20250609
DTEND;VALUE=DATE:20250610
DTSTAMP:20260423T172525
CREATED:20250623T112827Z
LAST-MODIFIED:20250623T112827Z
UID:3173-1749427200-1749513599@www.millhouseschool.co.uk
SUMMARY:Year 10 English trip to Packwood House
DESCRIPTION:
URL:https://www.millhouseschool.co.uk/event/year-10-english-trip-to-packwood-house/
END:VEVENT
BEGIN:VEVENT
DTSTART;VALUE=DATE:20250606
DTEND;VALUE=DATE:20250607
DTSTAMP:20260423T172525
CREATED:20250623T112909Z
LAST-MODIFIED:20250623T112909Z
UID:3175-1749168000-1749254399@www.millhouseschool.co.uk
SUMMARY:Warwickshire Fire service visit\, careers\, safety in the home and more
DESCRIPTION:
URL:https://www.millhouseschool.co.uk/event/warwickshire-fire-service-visit-careers-safety-in-the-home-and-more/
END:VEVENT
BEGIN:VEVENT
DTSTART;VALUE=DATE:20250604
DTEND;VALUE=DATE:20250605
DTSTAMP:20260423T172525
CREATED:20250623T112754Z
LAST-MODIFIED:20250623T112754Z
UID:3171-1748995200-1749081599@www.millhouseschool.co.uk
SUMMARY:KS4 HSBC Starting your careers Zoom session
DESCRIPTION:
URL:https://www.millhouseschool.co.uk/event/ks4-hsbc-starting-your-careers-zoom-session/
END:VEVENT
BEGIN:VEVENT
DTSTART;VALUE=DATE:20250602
DTEND;VALUE=DATE:20250603
DTSTAMP:20260423T172525
CREATED:20250623T112703Z
LAST-MODIFIED:20250623T112703Z
UID:3169-1748822400-1748908799@www.millhouseschool.co.uk
SUMMARY:HSBC Year 7 Gaming for Good Zoom session
DESCRIPTION:
URL:https://www.millhouseschool.co.uk/event/hsbc-year-7-gaming-for-good-zoom-session/
END:VEVENT
BEGIN:VEVENT
DTSTART;VALUE=DATE:20250523
DTEND;VALUE=DATE:20250524
DTSTAMP:20260423T172525
CREATED:20250623T123729Z
LAST-MODIFIED:20250623T123729Z
UID:3218-1747958400-1748044799@www.millhouseschool.co.uk
SUMMARY:KS4 Work experience Day – Butterfly Farm
DESCRIPTION:
URL:https://www.millhouseschool.co.uk/event/ks4-work-experience-day-butterfly-farm/
END:VEVENT
BEGIN:VEVENT
DTSTART;VALUE=DATE:20250521
DTEND;VALUE=DATE:20250522
DTSTAMP:20260423T172525
CREATED:20250623T123658Z
LAST-MODIFIED:20250623T123658Z
UID:3216-1747785600-1747871999@www.millhouseschool.co.uk
SUMMARY:Poet Laureate\, Richard Grant (aka the Dreadlockalien)
DESCRIPTION:
URL:https://www.millhouseschool.co.uk/event/poet-laureate-richard-grant-aka-the-dreadlockalien/
END:VEVENT
BEGIN:VEVENT
DTSTART;VALUE=DATE:20250519
DTEND;VALUE=DATE:20250520
DTSTAMP:20260423T172525
CREATED:20250623T123627Z
LAST-MODIFIED:20250623T123627Z
UID:3214-1747612800-1747699199@www.millhouseschool.co.uk
SUMMARY:HSBC Year 8 and 9 Gaming for Good Zoom session
DESCRIPTION:
URL:https://www.millhouseschool.co.uk/event/hsbc-year-8-and-9-gaming-for-good-zoom-session/
END:VEVENT
END:VCALENDAR